BEGIN:VCALENDAR
VERSION:2.0
PRODID:-//BrothersKeepers - ECPv6.15.11//NONSGML v1.0//EN
CALSCALE:GREGORIAN
METHOD:PUBLISH
X-WR-CALNAME:BrothersKeepers
X-ORIGINAL-URL:https://brothers-keepers.org
X-WR-CALDESC:Events for BrothersKeepers
REFRESH-INTERVAL;VALUE=DURATION:PT1H
X-Robots-Tag:noindex
X-PUBLISHED-TTL:PT1H
BEGIN:VTIMEZONE
TZID:America/Detroit
BEGIN:DAYLIGHT
TZOFFSETFROM:-0500
TZOFFSETTO:-0400
TZNAME:EDT
DTSTART:20170312T070000
END:DAYLIGHT
BEGIN:STANDARD
TZOFFSETFROM:-0400
TZOFFSETTO:-0500
TZNAME:EST
DTSTART:20171105T060000
END:STANDARD
BEGIN:DAYLIGHT
TZOFFSETFROM:-0500
TZOFFSETTO:-0400
TZNAME:EDT
DTSTART:20180311T070000
END:DAYLIGHT
BEGIN:STANDARD
TZOFFSETFROM:-0400
TZOFFSETTO:-0500
TZNAME:EST
DTSTART:20181104T060000
END:STANDARD
BEGIN:DAYLIGHT
TZOFFSETFROM:-0500
TZOFFSETTO:-0400
TZNAME:EDT
DTSTART:20190310T070000
END:DAYLIGHT
BEGIN:STANDARD
TZOFFSETFROM:-0400
TZOFFSETTO:-0500
TZNAME:EST
DTSTART:20191103T060000
END:STANDARD
BEGIN:DAYLIGHT
TZOFFSETFROM:-0500
TZOFFSETTO:-0400
TZNAME:EDT
DTSTART:20200308T070000
END:DAYLIGHT
BEGIN:STANDARD
TZOFFSETFROM:-0400
TZOFFSETTO:-0500
TZNAME:EST
DTSTART:20201101T060000
END:STANDARD
BEGIN:DAYLIGHT
TZOFFSETFROM:-0500
TZOFFSETTO:-0400
TZNAME:EDT
DTSTART:20210314T070000
END:DAYLIGHT
BEGIN:STANDARD
TZOFFSETFROM:-0400
TZOFFSETTO:-0500
TZNAME:EST
DTSTART:20211107T060000
END:STANDARD
BEGIN:DAYLIGHT
TZOFFSETFROM:-0500
TZOFFSETTO:-0400
TZNAME:EDT
DTSTART:20220313T070000
END:DAYLIGHT
BEGIN:STANDARD
TZOFFSETFROM:-0400
TZOFFSETTO:-0500
TZNAME:EST
DTSTART:20221106T060000
END:STANDARD
BEGIN:DAYLIGHT
TZOFFSETFROM:-0500
TZOFFSETTO:-0400
TZNAME:EDT
DTSTART:20230312T070000
END:DAYLIGHT
BEGIN:STANDARD
TZOFFSETFROM:-0400
TZOFFSETTO:-0500
TZNAME:EST
DTSTART:20231105T060000
END:STANDARD
BEGIN:DAYLIGHT
TZOFFSETFROM:-0500
TZOFFSETTO:-0400
TZNAME:EDT
DTSTART:20240310T070000
END:DAYLIGHT
BEGIN:STANDARD
TZOFFSETFROM:-0400
TZOFFSETTO:-0500
TZNAME:EST
DTSTART:20241103T060000
END:STANDARD
END:VTIMEZONE
BEGIN:VTIMEZONE
TZID:America/New_York
BEGIN:DAYLIGHT
TZOFFSETFROM:-0500
TZOFFSETTO:-0400
TZNAME:EDT
DTSTART:20160313T070000
END:DAYLIGHT
BEGIN:STANDARD
TZOFFSETFROM:-0400
TZOFFSETTO:-0500
TZNAME:EST
DTSTART:20161106T060000
END:STANDARD
BEGIN:DAYLIGHT
TZOFFSETFROM:-0500
TZOFFSETTO:-0400
TZNAME:EDT
DTSTART:20170312T070000
END:DAYLIGHT
BEGIN:STANDARD
TZOFFSETFROM:-0400
TZOFFSETTO:-0500
TZNAME:EST
DTSTART:20171105T060000
END:STANDARD
BEGIN:DAYLIGHT
TZOFFSETFROM:-0500
TZOFFSETTO:-0400
TZNAME:EDT
DTSTART:20180311T070000
END:DAYLIGHT
BEGIN:STANDARD
TZOFFSETFROM:-0400
TZOFFSETTO:-0500
TZNAME:EST
DTSTART:20181104T060000
END:STANDARD
BEGIN:DAYLIGHT
TZOFFSETFROM:-0500
TZOFFSETTO:-0400
TZNAME:EDT
DTSTART:20190310T070000
END:DAYLIGHT
BEGIN:STANDARD
TZOFFSETFROM:-0400
TZOFFSETTO:-0500
TZNAME:EST
DTSTART:20191103T060000
END:STANDARD
END:VTIMEZONE
BEGIN:VEVENT
DTSTART;TZID=America/Detroit:20230327T080000
DTEND;TZID=America/Detroit:20230331T200000
DTSTAMP:20260423T211647
CREATED:20230118T231936Z
LAST-MODIFIED:20230118T231936Z
UID:4292-1679904000-1680292800@brothers-keepers.org
SUMMARY:Winter Retreat #2 - Park City\, UT
DESCRIPTION:Another retreat to the largest ski resort in the United States.  More fun on the slopes!
URL:https://brothers-keepers.org/event/winter-retreat-2-park-city-ut/
LOCATION:National Ability Center\, Park City\, UT 84060\, Park City\, UT\, 84060\, US
END:VEVENT
BEGIN:VEVENT
DTSTART;TZID=America/Detroit:20230317T170000
DTEND;TZID=America/Detroit:20230317T233000
DTSTAMP:20260423T211647
CREATED:20230118T224227Z
LAST-MODIFIED:20230118T224227Z
UID:4290-1679072400-1679095800@brothers-keepers.org
SUMMARY:BK Shake the Shamrock Party
DESCRIPTION:Come celebrate St. Patrick’s Day with BrothersKeepers at Poag Mahomes Irish Pub in Ft. Worth Texas.
URL:https://brothers-keepers.org/event/bk-shake-the-shamrock-party/
LOCATION:Poag Mahone’s\, 700 Carroll Street\, Fort Worth\, TX 76107\, Fort Worth\, TX\, 76107\, US
END:VEVENT
BEGIN:VEVENT
DTSTART;TZID=America/Detroit:20230130T080000
DTEND;TZID=America/Detroit:20230203T200000
DTSTAMP:20260423T211647
CREATED:20230118T204622Z
LAST-MODIFIED:20230118T232158Z
UID:4286-1675065600-1675454400@brothers-keepers.org
SUMMARY:Winter Retreat #1 - Park City\, UT
DESCRIPTION:We are headed west to the mountains of Utah with our members for some fun on the slopes for one of our most popular events of the year.
URL:https://brothers-keepers.org/event/2023-winter-retreat-park-city-ut/
LOCATION:National Ability Center\, Park City\, UT 84060\, Park City\, UT\, 84060\, US
END:VEVENT
BEGIN:VEVENT
DTSTART;TZID=America/Detroit:20210520T173000
DTEND;TZID=America/Detroit:20210520T200000
DTSTAMP:20260423T211647
CREATED:20210514T181226Z
LAST-MODIFIED:20210520T213630Z
UID:3432-1621531800-1621540800@brothers-keepers.org
SUMMARY:Quarterly Mixer
DESCRIPTION:BrothersKeepers is on a mission! A mission to heal veterans\, first responders\, Gold Stars and their families.
URL:https://brothers-keepers.org/event/quarterly-mixer/
LOCATION:Twilite Lounge\, 212 Lipscomb Street\, Fort Worth\, TX 76104\, Fort Worth\, TX\, 76104\, US
END:VEVENT
BEGIN:VEVENT
DTSTART;TZID=America/Detroit:20201217T173000
DTEND;TZID=America/Detroit:20201217T200000
DTSTAMP:20260423T211647
CREATED:20200113T192120Z
LAST-MODIFIED:20201217T213014Z
UID:2810-1608226200-1608235200@brothers-keepers.org
SUMMARY:BK Holiday Mixer
DESCRIPTION:Celebrating the holiday season and  our Veteran & First Responder Heroes.
URL:https://brothers-keepers.org/event/hearing-from-our-heroes-2/
LOCATION:Poag Mahone’s\, 700 Carroll Street\, Fort Worth\, TX 76107\, Fort Worth\, TX\, 76107\, US
END:VEVENT
BEGIN:VEVENT
DTSTART;TZID=America/Detroit:20200220T173000
DTEND;TZID=America/Detroit:20200220T200000
DTSTAMP:20260423T211647
CREATED:20200219T214139Z
LAST-MODIFIED:20200220T212844Z
UID:2884-1582219800-1582228800@brothers-keepers.org
SUMMARY:Hearing from our Heroes\, Feb 2020
DESCRIPTION:Please join us at BrothersKeepers “Hearing from our Heroes” –  Our hero’s story will touch your soul as you hear about overcoming adversity
URL:https://brothers-keepers.org/event/hearing-from-our-heroes-feb-2020/
LOCATION:Twilite Lounge\, 212 Lipscomb Street\, Fort Worth\, TX 76104\, Fort Worth\, TX\, 76104\, US
END:VEVENT
BEGIN:VEVENT
DTSTART;TZID=America/Detroit:20191205T173000
DTEND;TZID=America/Detroit:20191205T193000
DTSTAMP:20260423T211647
CREATED:20191129T214402Z
LAST-MODIFIED:20191205T214142Z
UID:2761-1575567000-1575574200@brothers-keepers.org
SUMMARY:Hearing from our Heroes
DESCRIPTION:Please join us at BrothersKeepers “Hearing from our Heroes” –  Our hero’s story will touch your soul as you hear about overcoming adversity
URL:https://brothers-keepers.org/event/hearing-from-our-heroes/
LOCATION:Twilite Lounge\, 212 Lipscomb Street\, Fort Worth\, TX 76104\, Fort Worth\, TX\, 76104\, US
END:VEVENT
BEGIN:VEVENT
DTSTART;TZID=America/Detroit:20191027T170000
DTEND;TZID=America/Detroit:20191027T200000
DTSTAMP:20260423T211647
CREATED:20190501T133454Z
LAST-MODIFIED:20191027T213504Z
UID:2328-1572195600-1572206400@brothers-keepers.org
SUMMARY:BrothersKeepers Hero Open Top Golf Tournament
DESCRIPTION:Sign up now! \nJoin us for the fun as a Single Player for $150\, or a Team of 6 Players + 2 Spectators for $1\,000. If you are not interested in playing\, but still want to attend the festivities\, come as a Spectator for $75. All tickets come with a buffet dinner\, open bar\, entertainment\, and 3 hours of play. \n\n\n\n\n\nIf you or your company are interested in showing our heroes additional support\, consider being a Watering Hole Host or 19th Hole Host for $2\,500. Hosts receive 1 bay (6 players and 2 spectators total)\, as well as recognition on BK website\, social media\, signage at event and on stage during program.\nDon’t miss the fun!
URL:https://brothers-keepers.org/event/brotherskeepers-hero-open-top-golf-tournament/
LOCATION:Topgolf Fort Worth\, 2201 East 4th Street\, Fort Worth\, TX 76102\, Fort Worth\, TX\, 76102\, US
END:VEVENT
BEGIN:VEVENT
DTSTART;TZID=America/Detroit:20190803T080000
DTEND;TZID=America/Detroit:20190806T170000
DTSTAMP:20260423T211647
CREATED:20190221T164202Z
LAST-MODIFIED:20190806T212953Z
UID:2165-1564819200-1565110800@brothers-keepers.org
SUMMARY:Healing our Heroes - Summer Retreat
DESCRIPTION:At BrothersKeepers\, we are proud to conduct retreats that include the whole family. Our participants tell us that our exciting\, family inclusive retreats provide a deeper healing experience than ANYTHING else they have tried. \nFamily members experience a variety of thrilling activites in Utah\, inlcuding: water sports\, target practice (firearms and archery)\, mountain biking\, a challenge course\, and horseback riding.\nBrothersKeepers hosts these events to give families a chance to get away from daily stress and reconnect. We love seeing them get excited about life again\, but the downtime between hiiking up a mountain and shooting guns is where the real transformation happens. This is a place where everyone understands how hard it is to get on with life after a disabling event. It’s safe to be honest and raw here. It’s also fine to laugh\, sing songs\, play music\, and share great chow. Friendships forged on this retreat will help carry families through the hard times still ahead.\n**************************\nIf you are interested in participating in this retreat\, or helping sponsor a Veteran family for this retreat\, please email us at info@brothers-keepers.org.
URL:https://brothers-keepers.org/event/healing-our-heroes-summer-retreat/
LOCATION:National Ability Center\, Park City\, UT 84060\, Park City\, UT\, 84060\, US
END:VEVENT
BEGIN:VEVENT
DTSTART;TZID=America/Detroit:20190411T173000
DTEND;TZID=America/Detroit:20190411T193000
DTSTAMP:20260423T211647
CREATED:20190221T164202Z
LAST-MODIFIED:20190411T214055Z
UID:2164-1555003800-1555011000@brothers-keepers.org
SUMMARY:Salute a Hero - Quarterly Mixer
DESCRIPTION:BrothersKeepers provides once-in-a-lifetime experiential retreats that offer profound healing and fellowship for wounded veterans\, first responders\, and their families. If this resonates with you\, and you would like to learn more\, please join us at our quarterly mixer. We would be honored for you to participate in this evening of inspiration. There is no cost to attend.
URL:https://brothers-keepers.org/event/salute-a-hero-quarterly-mixer/
LOCATION:Twilite Lounge\, 212 Lipscomb Street\, Fort Worth\, TX 76104\, Fort Worth\, TX\, 76104\, US
END:VEVENT
BEGIN:VEVENT
DTSTART;TZID=America/Detroit:20190323T080000
DTEND;TZID=America/Detroit:20190327T170000
DTSTAMP:20260423T211647
CREATED:20190221T164200Z
LAST-MODIFIED:20190327T213105Z
UID:2162-1553328000-1553706000@brothers-keepers.org
SUMMARY:Healing our Heroes - Winter Retreat
DESCRIPTION:At BrothersKeepers\, we are proud to conduct retreats that include the whole family. Our participants tell us that our exciting\, family inclusive retreats provide a deeper healing experience than ANYTHING else they have tried. \nFamily members experience a variety of thrilling activites in Utah\, inlcuding: snow skiing\, target practice (firearms and archery)\, mountain biking\, a challenge course\, and horseback riding.\nBrothersKeepers hosts these events to give families a chance to get away from daily stress and reconnect. We love seeing them get excited about life again\, but the downtime between skiing down a mountain and shooting guns is where the real transformation happens. This is a place where everyone understands how hard it is to get on with life after a disabling event. It’s safe to be honest and raw here. It’s also fine to laugh\, sing songs\, play music\, and share great chow. Friendships forged on this retreat will help carry families through the hard times still ahead.\n**************************\nThis retreat is now sold out. If you are interested in participating in a future retreat\, or helping sponsor a Veteran family for a future retreat\, please email us at info@brothers-keepers.org.
URL:https://brothers-keepers.org/event/healing-our-heroes-winter-retreat/
LOCATION:National Ability Center\, Park City\, UT 84060\, Park City\, UT\, 84060\, US
END:VEVENT
BEGIN:VEVENT
DTSTART;TZID=America/Detroit:20181010T173000
DTEND;TZID=America/Detroit:20181010T194500
DTSTAMP:20260423T211647
CREATED:20180912T213413Z
LAST-MODIFIED:20181010T213416Z
UID:1646-1539192600-1539200700@brothers-keepers.org
SUMMARY:Copy of BrothersKeepers Q4 2018 Friends & Members Mixer
DESCRIPTION:BrothersKeepers provides once-in-a-lifetime experiential retreats and ongoing support that offers profound healing and fellowship for wounded veterans\, first responders\, their families and others tirelessly serving our community and our country. If this resonates with you\, if you’d like to learn more\, please join us at BrothersKeepers Friends and Members Mixer\, October 10\, 5:30-7:30 p.m. at the new Twilight Lounge in the near Southside. We would be honored for you and up to three guests join us for this evening of inspiration. There’s no cost to attend.\nFor those not familiar with what we do\, please watch this short video introduction.\nWe’ll have music from Brad Thompson\, drinks and food from Twilight Lounge\, and a short presentation ceremony. We’ll hear from participants who went on our Wounded Heroes Utah Retreat this August. \nEvening Agenda:\n5:30-6:30 Welcome reception\n6:45-7:00 BrothersKeepers welcome and introduction\n7:00-7:15 Testimonial from Utah Retreat\n7:15-7:30 Check Presentation to BrothersKeepers\n7:30-8:00 Closing reception\n\nWe’re on a mission. A mission to heal veterans\, first responders\, and their families\, and we’re inviting you to come along. Please feel free to bring up to three guests and you are welcome to forward the invitation to others you feel would have an interest in our mission.\nThank you each for your past and continued support\, and we look forward to seeing you on October 10!\n“Healing Veterans & First Responders\, One Family at a Time”
URL:https://brothers-keepers.org/event/copy-of-brotherskeepers-q4-2018-friends-members-mixer/
LOCATION:Twilight Lounge\, 212 Lipscomb\, Fort Worth\, TX 76104\, Fort Worth\, TX\, 76104\, US
ATTACH;FMTTYPE=image/jpeg:https://brothers-keepers.org/wp-content/uploads/2018/09/1646_image_original.jpg
END:VEVENT
BEGIN:VEVENT
DTSTART;TZID=America/Detroit:20180725T173000
DTEND;TZID=America/Detroit:20180725T193000
DTSTAMP:20260423T211647
CREATED:20180616T213934Z
LAST-MODIFIED:20180725T220103Z
UID:1460-1532539800-1532547000@brothers-keepers.org
SUMMARY:BrothersKeepers Q3 2018 Friends & Members Mixer
DESCRIPTION:BrothersKeepers provides once-in-a-lifetime experiential retreats and ongoing support that offers profound healing and fellowship for wounded veterans\, first responders\, their families and others tirelessly serving our community and our country. If this resonates with you\, if you’d like to learn more\, please join us at BrothersKeepers Friends and Members Mixer\, July 25\, 5:30-7:30 p.m. at the new Twilight Lounge in the near Southside. We would be honored for you and up to three guests join us for this evening of inspiration. There’s no cost to attend.\nFor those not familiar with what we do\, please watch this short video introduction.\nWe’ll have music from Brad Thompson\, drinks and food from Twilight Lounge\, and a short presentation ceremony. We’ll hear from participants who went on our Wounded Heroes Utah Retreat this March. \nEvening Agenda:\n5:30-6:30 Welcome reception\n6:45-7:00 BrothersKeepers welcome and introduction\n7:00-7:15 Testimonial from Utah Retreat\n7:15-7:30 Check Presentation to BrothersKeepers\n7:30-8:00 Closing reception\n\nWe’re on a mission. A mission to heal veterans\, first responders\, and their families\, and we’re inviting you to come along. Please feel free to bring up to three guests and you are welcome to forward the invitation to others you feel would have an interest in our mission.\nThank you each for your past and continued support\, and we look forward to seeing you on July 25!\n“Healing Veterans & First Responders\, One Family at a Time”
URL:https://brothers-keepers.org/event/brotherskeepers-q3-2018-friends-members-mixer/
LOCATION:Twilight Lounge\, 212 Lipscomb\, Fort Worth\, TX 76104\, Fort Worth\, TX\, 76104\, US
ATTACH;FMTTYPE=image/jpeg:https://brothers-keepers.org/wp-content/uploads/2018/06/1460_image_original.jpg
END:VEVENT
BEGIN:VEVENT
DTSTART;TZID=America/Detroit:20180414T173000
DTEND;TZID=America/Detroit:20180415T000000
DTSTAMP:20260423T211647
CREATED:20180209T151457Z
LAST-MODIFIED:20180414T213005Z
UID:1364-1523727000-1523750400@brothers-keepers.org
SUMMARY:MusicFest III with '80s hit band Berlin featuring Terri Nunn & Poo Live Crew
DESCRIPTION:Join us for our 3rd Annual fundraising concert for BrothersKeepers.  We can promise a fun-filled 80’s themed night filled with music\, drinks\, raffle items & of course\, dancing.  80’s attire welcome!\nSchedule of Events:\n\n5:30 PM VIP Pre Party\n6:30 PM Doors Open\n7:30 PM Poo Live Crew\n9:00 PM Berlin featuring Terri Nunn\n\nTickets:\nVIP Access Pass:  $175 – Limited availability – \n\nIncludes:\nValet parking\nSeated dinner (VIP tables of 10 available for 10% discount)\nBeer & wine\nPrivate performances by Kadie Lynn Roberson\, America’s Got Talent finalist & Brad Thompson\nReserved VIP section & private bar for main performances\nMeet & Greet with Berlin and Terri Nunn\n\nReserved Balcony Seating:  $45 (stair access only)\n\nThe balcony seats offer the best views of this historic theater!\n\nGeneral Admission:  $35 standing room only\nAll proceeds will benefit BrothersKeepers.  BrothersKeepers is a 501(c)(3) nonprofit specializing in hosting healing retreats & activities for veterans & their families.  To learn more\, please visit us at http://brothers-keepers.org
URL:https://brothers-keepers.org/event/musicfest-iii-with-80s-hit-band-berlin-featuring-terri-nunn-poo-live-crew/
LOCATION:Ridglea Theatre\, 6025 Camp Bowie Boulevard\, Fort Worth\, TX 76116\, Fort Worth\, TX\, 76116\, US
ATTACH;FMTTYPE=image/jpeg:https://brothers-keepers.org/wp-content/uploads/2018/02/1364_image_original.jpg
END:VEVENT
BEGIN:VEVENT
DTSTART;TZID=America/Detroit:20180404T173000
DTEND;TZID=America/Detroit:20180404T200000
DTSTAMP:20260423T211647
CREATED:20180326T212959Z
LAST-MODIFIED:20180404T213145Z
UID:1433-1522863000-1522872000@brothers-keepers.org
SUMMARY:BrothersKeepers Q2 2018 Friends & Members Mixer
DESCRIPTION:BrothersKeepers provides once-in-a-lifetime experiential retreats and ongoing support that offers profound healing and fellowship for wounded veterans\, first responders\, their families and others tirelessly serving our community and our country. If this resonates with you\, if you’d like to learn more\, please join us at BrothersKeepers Friends and Members Mixer\, April 4\, 5:30-8:00 p.m. at Trinity River Distillery. We would be honored for you and up to three guests join us for this evening of inspiration. There’s no cost to attend.\nFor those not familiar with what we do\, please watch this short video introduction.\nWe’ll have music from Brad Thompson\, drinks and distillery tours from Trinity River Distillery\, and a short presentation ceremony. We’ll hear from participants who went on our Wounded Heroes Utah Retreat this March. We’ll also check in on Jack’s progress at Neurological Recovery Center and announce an EXCITING NEW BrothersKeepers initiative!!\n\nEvening Agenda:\n5:30-6:00 Welcome reception\n6:00 (sharp)-6:40 Diltillary Tour \n6:45-7:00 BrothersKeepers Testimonial\n7:00-7:15 BK presents check to Beneficiary Organization\n7:15-8:00 Poag Mahone’s presents check from St. Patty’s Madness to BK\n7:30-8:00 Closing reception\n\nWe’re on a mission. A mission to heal veterans\, first responders\, and their families\, and we’re inviting you to come along. Please feel free to bring up to three guests and you are welcome to forward the invitation to others you feel would have an interest in our mission.\nThank you each for your past and continued support\, and we look forward to seeing you on January 31!\n“Healing Veterans & First Responders\, One Family at a Time”
URL:https://brothers-keepers.org/event/brotherskeepers-q2-2018-friends-members-mixer/
LOCATION:Trinity River Distillery`\, 1734 East El Paso Street #130\, Fort Worth\, TX 76102\, Fort Worth\, TX\, 76102\, US
ATTACH;FMTTYPE=image/jpeg:https://brothers-keepers.org/wp-content/uploads/2018/03/1433_image_original.jpg
END:VEVENT
BEGIN:VEVENT
DTSTART;TZID=America/New_York:20180124T173000
DTEND;TZID=America/New_York:20180124T200000
DTSTAMP:20260423T211647
CREATED:20180115T153705Z
LAST-MODIFIED:20180115T153742Z
UID:1327-1516815000-1516824000@brothers-keepers.org
SUMMARY:BrothersKeepers 2018 Kickoff Friends & Members Quarterly Mixer
DESCRIPTION:BrothersKeepers provides once-in-a-lifetime experiential retreats and ongoing support that offers profound healing and fellowship for wounded veterans\, first responders\, their families and others tirelessly serving our community and our country. If this resonates with you\, if you’d like to learn more\, please join us at BrothersKeepers Friends and Members Mixer\, January 24\, 5:30-8:00 p.m. at Trinity River Distillery. We would be honored for you and up to three guests join us for this evening of inspiration. There’s no cost to attend.\nFor those not familiar with what we do\, please watch this short video introduction.\nWe’ll have music from Brad Thompson\, drinks and distillery tours from Trinity River Distillery\, and a short presentation ceremony. We’ll hear from participants who went on our Park City\, Utah Retreat at the National Abilities Center with adaptive winter sports. We’ll also check in on Jack’s progress at Neurological Recovery Center and announce our next BrothersKeepers volunteer day.\n\nEvening Agenda:\n5:30-6:00 Welcome reception\n6:00 (sharp)-6:40 Diltillary Tour \n6:45-7:00 BrothersKeepers Testimonials\n7:00-7:15 BK presents check to Beneficiary Organization\n7:30-8:00 Closing reception\n\nWe’re on a mission. A mission to make a difference\, and we’re inviting you to come along. Please feel free to bring up to three guests and you are welcome to forward the invitation to others you feel would have an interest in our mission.\nThank you each for your past and continued support\, and we look forward to seeing you on Thursday\, 6/28!\n“Healing Veterans & First Responders\, One Family at a Time”
URL:https://brothers-keepers.org/event/brotherskeepers-2018-kickoff-friends-members-quarterly-mixer/
LOCATION:Trinity River Distillery\, 1734 East El Paso Street #130\, Fort Worth\, TX 76102\, Fort Worth\, TX\, 76102\, US
END:VEVENT
BEGIN:VEVENT
DTSTART;TZID=America/New_York:20171108T173000
DTEND;TZID=America/New_York:20171108T203000
DTSTAMP:20260423T211647
CREATED:20171011T114918Z
LAST-MODIFIED:20171011T114918Z
UID:1232-1510162200-1510173000@brothers-keepers.org
SUMMARY:BrothersKeepers "Salute a Hero" Mixer
DESCRIPTION:BrothersKeepers provides once-in-a-lifetime experiential retreats and ongoing support that offers profound healing and fellowship for wounded veterans\, first responders\, their families and others tirelessly serving our community and our country. If this resonates with you\, if you’d like to learn more\, please join us at BrothersKeepers Friends and Members Mixer\, November 8\, 5:30-8:00 p.m. at Trinity River Distillery. We would be honored for you and up to three guests join us for this evening of inspiration. There’s no cost to attend\, appetizers provided and drinks available — I mean\, it is a distillery\, after all!\nFor those not familiar with what we do\, please watch this short video introduction.\nWe’ll have music from Brad Thompson\, drinks and distillery tours from Trinity River Distillery\, and a short presentation ceremony. We’ll hear from participants who went on our recent BrothersKeepers Family Reunion Retreat at Granite Ranch. We’ll also check in on Jack’s progress at Neurological Recovery Center and announce our next BrothersKeepers volunteer day.\n\nEvening Agenda:\n5:30-6:00 Welcome reception\n6:00 (sharp)-6:40 Diltillary Tour \n6:45-7:00 BrothersKeepers Special Recognition Awards\n7:00-7:15 BrothersKeepers Testimonials\n7:15-7:30 Check Presentation to BrothersKeepers Quarterly Beneficiary\n7:30-8:00 Closing reception\n\nWe’re on a mission. A mission to make a difference\, and we’re inviting you to come along. Please feel free to bring up to three guests and you are welcome to forward the invitation to others you feel would have an interest in our mission.\nThank you each for your past and continued support\, and we look forward to seeing you on Thursday\, 6/28!\n“Healing Veterans & First Responders\, One Family at a Time”
URL:https://brothers-keepers.org/event/brotherskeepers-salute-a-hero-mixer/
LOCATION:Trinity River Distillery\, 1734 East El Paso Street #130\, Fort Worth\, TX 76102\, Fort Worth\, TX\, 76102\, US
ATTACH;FMTTYPE=image/jpeg:https://brothers-keepers.org/wp-content/uploads/2017/10/1232_image_original-scaled.jpg
END:VEVENT
END:VCALENDAR